Workbook

Sheet Kosten-u. Finanzierungsplan
A1: Kosten- und Finanzierungsplan
A2: Projekttitel:
A3: Antragstellende Einrichtung:
A5: a) Gesamtkosten des Projektes
A6: Bezeichnung der Ausgabe | B6: Erläuterungen / Einheiten | C6: Betrag | D6: davon Kosten, die aus Mitteln der Krupp-Stiftung finanziert werden sollen (auf ganze Euro gerundet)
A7: 1. Personalkosten (z.B. Mitarbeiter*innen, Honorarkräfte, Dienstleister)
A18: Summe Personalkosten | C18: =SUM(C8:C17) -> 0 | D18: =SUM(D8:D17) -> 0
A19: 2. Sachkosten (z.B. Raummieten, Verpflegung, Materialien)
A30: Summe Sachkosten | C30: =SUM(C20:C29) -> 0 | D30: =SUM(D20:D29) -> 0
A31: 3. Sonstige Kosten (z.B. Öffentlichkeitsarbeit, Verwaltungskosten, Reisekosten)
A39: Summe Sonstige Kosten | C39: =SUM(C32:C38) -> 0 | D39: =SUM(D32:D38) -> 0
A40: Summe Ausgaben | C40: =SUM(C18+C30+C39) -> 0 | D40: =SUM(D18+D30+D39) -> 0
A43: b) Finanzierung des Projektes
A44: Bezeichnung der Einnahme | B44: Erläuterungen / Einheiten | D44: Betrag
A45: 1. Eigenanteil/-mittel (z.B. Personal-, Verwaltungskosten, Ehrenamt, Beiträge, Barmittel)
A52: Summe Eigenmittel | D52: =SUM(D46:D51) -> 0
A53: 2. Drittmittel / weitere Einnahmequellen (bitte angeben, ob beantragt oder bereits bewilligt)
A60: Summe Drittmittel | D60: =SUM(D54:D59) -> 0
A61: 3. Bei der Krupp-Stiftung beantragte Mittel
A62: Summe Krupp-Stiftung | D62: =SUM(D40) -> 0
A63: Gesamtfinanzierung | C63: =SUM(D52+D60+D62) -> 0

Sheet VN
A1: Verwendungsnachweis (nur für bewilligte Projekte, zum Projektabschluss auszufüllen)
A2: Projekttitel: | B2: ='[1]Kosten-u. Finanzierungsplan'!B2 -> 0
A3: Antragstellende Einrichtung: | B3: ='[1]Kosten-u. Finanzierungsplan'!B3 -> 0
A5: a) Gesamtkosten des Projektes | C5: SOLL | E5: IST
A6: Bezeichnung der Ausgabe | B6: Erläuterungen | C6: Betrag | D6: davon Mittel der Krupp-Stiftung | E6: Betrag | F6: davon Mittel der Krupp-Stiftung | G6: Begründung für Abweichungen
A7: 1. Personalkosten (z.B. Mitarbeiter*innen, Honorarkräfte, Dienstleister)
A8: ='Kosten-u. Finanzierungsplan'!A8 -> 0 | B8: ='Kosten-u. Finanzierungsplan'!B8 -> 0 | C8: ='Kosten-u. Finanzierungsplan'!C8 -> 0 | D8: ='Kosten-u. Finanzierungsplan'!D8 -> 0
A9: ='Kosten-u. Finanzierungsplan'!A9 -> 0 | B9: ='Kosten-u. Finanzierungsplan'!B9 -> 0 | C9: ='Kosten-u. Finanzierungsplan'!C9 -> 0 | D9: ='Kosten-u. Finanzierungsplan'!D9 -> 0
A10: ='Kosten-u. Finanzierungsplan'!A10 -> 0 | B10: ='Kosten-u. Finanzierungsplan'!B10 -> 0 | C10: ='Kosten-u. Finanzierungsplan'!C10 -> 0 | D10: ='Kosten-u. Finanzierungsplan'!D10 -> 0
A11: ='Kosten-u. Finanzierungsplan'!A11 -> 0 | B11: ='Kosten-u. Finanzierungsplan'!B11 -> 0 | C11: ='Kosten-u. Finanzierungsplan'!C11 -> 0 | D11: ='Kosten-u. Finanzierungsplan'!D11 -> 0
A12: ='Kosten-u. Finanzierungsplan'!A12 -> 0 | B12: ='Kosten-u. Finanzierungsplan'!B12 -> 0 | C12: ='Kosten-u. Finanzierungsplan'!C12 -> 0 | D12: ='Kosten-u. Finanzierungsplan'!D12 -> 0
A13: ='Kosten-u. Finanzierungsplan'!A13 -> 0 | B13: ='Kosten-u. Finanzierungsplan'!B13 -> 0 | C13: ='Kosten-u. Finanzierungsplan'!C13 -> 0 | D13: ='Kosten-u. Finanzierungsplan'!D13 -> 0
A14: ='Kosten-u. Finanzierungsplan'!A14 -> 0 | B14: ='Kosten-u. Finanzierungsplan'!B14 -> 0 | C14: ='Kosten-u. Finanzierungsplan'!C14 -> 0 | D14: ='Kosten-u. Finanzierungsplan'!D14 -> 0
A15: ='Kosten-u. Finanzierungsplan'!A15 -> 0 | B15: ='Kosten-u. Finanzierungsplan'!B15 -> 0 | C15: ='Kosten-u. Finanzierungsplan'!C15 -> 0 | D15: ='Kosten-u. Finanzierungsplan'!D15 -> 0
A16: ='Kosten-u. Finanzierungsplan'!A16 -> 0 | B16: ='Kosten-u. Finanzierungsplan'!B16 -> 0 | C16: ='Kosten-u. Finanzierungsplan'!C16 -> 0 | D16: ='Kosten-u. Finanzierungsplan'!D16 -> 0
A17: ='Kosten-u. Finanzierungsplan'!A17 -> 0 | B17: ='Kosten-u. Finanzierungsplan'!B17 -> 0 | C17: ='Kosten-u. Finanzierungsplan'!C17 -> 0 | D17: ='Kosten-u. Finanzierungsplan'!D17 -> 0
A18: Summe Personalkosten | C18: ='Kosten-u. Finanzierungsplan'!C18 -> 0 | D18: ='Kosten-u. Finanzierungsplan'!D18 -> 0 | E18: =SUM(E8:E17) -> 0 | F18: =SUM(F8:F17) -> 0
A19: 2. Sachkosten (z.B. Raummieten, Verpflegung, Materialien)
A20: ='Kosten-u. Finanzierungsplan'!A20 -> 0 | B20: ='Kosten-u. Finanzierungsplan'!B8 -> 0 | C20: ='Kosten-u. Finanzierungsplan'!C20 -> 0 | D20: ='Kosten-u. Finanzierungsplan'!D20 -> 0
A21: ='Kosten-u. Finanzierungsplan'!A21 -> 0 | B21: ='Kosten-u. Finanzierungsplan'!B9 -> 0 | C21: ='Kosten-u. Finanzierungsplan'!C21 -> 0 | D21: ='Kosten-u. Finanzierungsplan'!D21 -> 0
A22: ='Kosten-u. Finanzierungsplan'!A22 -> 0 | B22: ='Kosten-u. Finanzierungsplan'!B10 -> 0 | C22: ='Kosten-u. Finanzierungsplan'!C22 -> 0 | D22: ='Kosten-u. Finanzierungsplan'!D22 -> 0
A23: ='Kosten-u. Finanzierungsplan'!A23 -> 0 | B23: ='Kosten-u. Finanzierungsplan'!B11 -> 0 | C23: ='Kosten-u. Finanzierungsplan'!C23 -> 0 | D23: ='Kosten-u. Finanzierungsplan'!D23 -> 0
A24: ='Kosten-u. Finanzierungsplan'!A24 -> 0 | B24: ='Kosten-u. Finanzierungsplan'!B12 -> 0 | C24: ='Kosten-u. Finanzierungsplan'!C24 -> 0 | D24: ='Kosten-u. Finanzierungsplan'!D24 -> 0
A25: ='Kosten-u. Finanzierungsplan'!A25 -> 0 | B25: ='Kosten-u. Finanzierungsplan'!B13 -> 0 | C25: ='Kosten-u. Finanzierungsplan'!C25 -> 0 | D25: ='Kosten-u. Finanzierungsplan'!D25 -> 0
A26: ='Kosten-u. Finanzierungsplan'!A26 -> 0 | B26: ='Kosten-u. Finanzierungsplan'!B14 -> 0 | C26: ='Kosten-u. Finanzierungsplan'!C26 -> 0 | D26: ='Kosten-u. Finanzierungsplan'!D26 -> 0
A27: ='Kosten-u. Finanzierungsplan'!A27 -> 0 | B27: ='Kosten-u. Finanzierungsplan'!B15 -> 0 | C27: ='Kosten-u. Finanzierungsplan'!C27 -> 0 | D27: ='Kosten-u. Finanzierungsplan'!D27 -> 0
A28: ='Kosten-u. Finanzierungsplan'!A28 -> 0 | B28: ='Kosten-u. Finanzierungsplan'!B16 -> 0 | C28: ='Kosten-u. Finanzierungsplan'!C28 -> 0 | D28: ='Kosten-u. Finanzierungsplan'!D28 -> 0
A29: ='Kosten-u. Finanzierungsplan'!A29 -> 0 | B29: ='Kosten-u. Finanzierungsplan'!B17 -> 0 | C29: ='Kosten-u. Finanzierungsplan'!C29 -> 0 | D29: ='Kosten-u. Finanzierungsplan'!D29 -> 0
A30: Summe Sachkosten | C30: ='[1]Kosten-u. Finanzierungsplan'!C30 -> 0 | D30: ='Kosten-u. Finanzierungsplan'!D30 -> 0 | E30: =SUM(E20:E29) -> 0 | F30: =SUM(F20:F29) -> 0
A31: 3. Sonstige Kosten (z.B. Öffentlichkeitsarbeit, Verwaltungskosten, Reisekosten)
A32: ='Kosten-u. Finanzierungsplan'!A32 -> 0 | B32: ='Kosten-u. Finanzierungsplan'!B32 -> 0 | C32: ='Kosten-u. Finanzierungsplan'!C32 -> 0 | D32: ='Kosten-u. Finanzierungsplan'!D32 -> 0
A33: ='Kosten-u. Finanzierungsplan'!A33 -> 0 | B33: ='Kosten-u. Finanzierungsplan'!B33 -> 0 | C33: ='Kosten-u. Finanzierungsplan'!C33 -> 0 | D33: ='Kosten-u. Finanzierungsplan'!D33 -> 0
A34: ='Kosten-u. Finanzierungsplan'!A34 -> 0 | B34: ='Kosten-u. Finanzierungsplan'!B34 -> 0 | C34: ='Kosten-u. Finanzierungsplan'!C34 -> 0 | D34: ='Kosten-u. Finanzierungsplan'!D34 -> 0
A35: ='Kosten-u. Finanzierungsplan'!A35 -> 0 | B35: ='Kosten-u. Finanzierungsplan'!B35 -> 0 | C35: ='Kosten-u. Finanzierungsplan'!C35 -> 0 | D35: ='Kosten-u. Finanzierungsplan'!D35 -> 0
A36: ='Kosten-u. Finanzierungsplan'!A36 -> 0 | B36: ='Kosten-u. Finanzierungsplan'!B36 -> 0 | C36: ='Kosten-u. Finanzierungsplan'!C36 -> 0 | D36: ='Kosten-u. Finanzierungsplan'!D36 -> 0
A37: ='Kosten-u. Finanzierungsplan'!A37 -> 0 | B37: ='Kosten-u. Finanzierungsplan'!B37 -> 0 | C37: ='Kosten-u. Finanzierungsplan'!C37 -> 0 | D37: ='Kosten-u. Finanzierungsplan'!D37 -> 0
A38: ='Kosten-u. Finanzierungsplan'!A38 -> 0 | B38: ='Kosten-u. Finanzierungsplan'!B38 -> 0 | C38: ='Kosten-u. Finanzierungsplan'!C38 -> 0 | D38: ='Kosten-u. Finanzierungsplan'!D38 -> 0
A39: Summe Sonstige Kosten | C39: ='Kosten-u. Finanzierungsplan'!C39 -> 0 | D39: ='Kosten-u. Finanzierungsplan'!D39 -> 0 | E39: =SUM(E32:E38) -> 0 | F39: =SUM(F32:F38) -> 0
A40: Summe Ausgaben | C40: ='Kosten-u. Finanzierungsplan'!C40 -> 0 | D40: ='Kosten-u. Finanzierungsplan'!D40 -> 0 | E40: =SUM(E18+E30+E39) -> 0 | F40: =SUM(F18+F30+F39) -> 0
A43: b) Finanzierung des Projektes
...
